BEGIN:VCALENDAR
VERSION:2.0
PRODID:-//ChamberMaster//Event Calendar 2.0//EN
METHOD:PUBLISH
X-PUBLISHED-TTL:P1H
REFRESH-INTERVAL:P1H
CALSCALE:GREGORIAN
BEGIN:VTIMEZONE
TZID:America/Chicago
BEGIN:DAYLIGHT
RRULE:FREQ=YEARLY;BYMONTH=3;BYDAY=2SU
DTSTART:20070101T000000
TZOFFSETFROM:-0600
TZOFFSETTO:-0500
TZNAME:Central Daylight Time
END:DAYLIGHT
BEGIN:STANDARD
RRULE:FREQ=YEARLY;BYMONTH=11;BYDAY=1SU
DTSTART:20070101T000000
TZOFFSETFROM:-0500
TZOFFSETTO:-0600
TZNAME:Central Standard Time
END:STANDARD
END:VTIMEZONE
BEGIN:VEVENT
DTSTART;TZID=America/Chicago:20260428T120000
DTEND;TZID=America/Chicago:20260428T130000
X-MICROSOFT-CDO-ALLDAYEVENT:FALSE
SUMMARY:Lunch & Learn: How to Consistently Attract Customers and Grow Your Revenue
DESCRIPTION:Whether you're starting out or looking to scale\, learn the core principles to begin building a consistent customer acquisition system that drives revenue growth.
X-ALT-DESC;FMTTYPE=text/html:Whether you're starting out or looking to scale\, learn the core principles to begin building a consistent customer acquisition system that drives revenue growth.
LOCATION:7600 West Roosevelt Rd. Lower Level Forest Park 60154
UID:e.2761.1438492
SEQUENCE:3
DTSTAMP:20260422T215432Z
URL:https://josephbusinessschooljbs.growthzoneapp.com/events/Details/lunch-learn-how-to-consistently-attract-customers-and-grow-your-revenue-1702609?sourceTypeId=Hub
END:VEVENT
END:VCALENDAR
